BEGIN:VCALENDAR
VERSION:2.0
PRODID:-//船橋商工会議所青年部 - ECPv6.0.13//NONSGML v1.0//EN
CALSCALE:GREGORIAN
METHOD:PUBLISH
X-ORIGINAL-URL:https://funabashi-yeg.com
X-WR-CALDESC:船橋商工会議所青年部 のイベント
REFRESH-INTERVAL;VALUE=DURATION:PT1H
X-Robots-Tag:noindex
X-PUBLISHED-TTL:PT1H
BEGIN:VTIMEZONE
TZID:America/Anchorage
BEGIN:DAYLIGHT
TZOFFSETFROM:-0900
TZOFFSETTO:-0800
TZNAME:AKDT
DTSTART:20230312T110000
END:DAYLIGHT
BEGIN:STANDARD
TZOFFSETFROM:-0800
TZOFFSETTO:-0900
TZNAME:AKST
DTSTART:20231105T100000
END:STANDARD
TZID:Asia/Tokyo
BEGIN:STANDARD
TZOFFSETFROM:+0900
TZOFFSETTO:+0900
TZNAME:JST
DTSTART:20230101T000000
END:STANDARD
END:VTIMEZONE
BEGIN:VEVENT
DTSTART;TZID=America/Anchorage:20230622T173000
DTEND;TZID=America/Anchorage:20230622T200000
DTSTAMP:20260421T135534
CREATED:20230621T182439Z
LAST-MODIFIED:20230621T182439Z
UID:5831-1687455000-1687464000@funabashi-yeg.com
SUMMARY:【SDGｓセミナー】〜SDGｓでビジネスを元気に～
DESCRIPTION:SDGs（持続可能な開発目標）は急速に認知度が高まってきており、全国的にも取り組む地方公共団体や中小企業が増え、これからのビジネスにＳDGｓを無視することはできません。 \nそこで、ビジネスに活用できるような知識を得ることが必要と考え、セミナーを開催する運びとなりました。  \n前半は、基本的な講義を、逗子YEGの池田様と株式会社オカムラホームの金子社長にそれぞれお話頂きます。 \n後半は、当委員会の加納副委員長も交え、中村豪会員のコーディネートで、パネルディスカッションを行います。 \n学びのある時間になると思いますので、奮ってご参加を頂けますと幸いです。 \n宜しくお願いいたします。  \n＜内容＞　　　　　 \n前半：研修会　 \n　１：Permanent Planet株式会社　代表取締役　池田陸郎　様（逗子ＹＥＧ会員※添付参照） \n　　　①SDGsの基本　②ＳＤＧｓと地方自治体　③ＳＤＧｓのビジネスへの必要性 \n　２：株式会社オカムラホーム　代表取締役　金子保夫　氏 \n　　　https://www.okamura-home.co.jp/sdgs/ \n　　　地方の企業によるSDGｓに関する取組みの事例紹介 \n後半：パネルディスカッション　　 \n　テーマ：中小企業がＳＤＧｓに取り組む意義 \n　コーディネーター：船橋ＹＥＧ　中村　豪　会員（カーボンバンク株式会社　代表取締役） \n　パネリスト　　　：Permanent Planet株式会社　代表取締役　池田陸郎　様 \n　　　　　　　　　：株式会社オカムラホーム　代表取締役　金子保夫　様 \n　　　　　　　　　：船橋ＹＥＧ　加納慶太　会員（株式会社芳蔵園　代表取締役）  \n＜日時＞　令和５年６月22日（木）　18時～ \n　　　　　17:30　　　受付開始 \n　　　　　18:00　　　開会・講義 \n　　　　　19:10　　　パネルディスカッション \n　　　　　19:50　　　質疑応答 \n　　　　　20:00　　　終了  \n＜場所＞　船橋商工会議所６階大会議室  \n＜参加対象者＞　ＹＥＧ会員及び従業員、親会会員、他単会ＹＥＧメンバー \n※特に制限はありませんので、ご家族やお知り合いを含め、興味のある方がおられましたらお声がけください。
URL:https://funabashi-yeg.com/event/%e3%80%90sdg%ef%bd%93%e3%82%bb%e3%83%9f%e3%83%8a%e3%83%bc%e3%80%91%e3%80%9csdg%ef%bd%93%e3%81%a7%e3%83%93%e3%82%b8%e3%83%8d%e3%82%b9%e3%82%92%e5%85%83%e6%b0%97%e3%81%ab%ef%bd%9e
CATEGORIES:船橋YEG事業
END:VEVENT
BEGIN:VEVENT
DTSTART;TZID=Asia/Tokyo:20230718T210000
DTEND;TZID=Asia/Tokyo:20230718T223000
DTSTAMP:20260421T135534
CREATED:20230723T061129Z
LAST-MODIFIED:20230723T061143Z
UID:6047-1689714000-1689719400@funabashi-yeg.com
SUMMARY:第4回YEGスイッチ
DESCRIPTION:2023年 07 月 18 日 (火) 20:30 〜 22:30 \n第4回YEGスイッチ開催のご案内 \n船橋を代表する大型イベント『ふなばしハワイアンフェスティバル』は会場全体がハワイ一色に！\nそんなイベントを支えてきた方を招き、ハワイアンフェスティバルが成長した歴史などのお話を聞くことで、今年のハワイアンフェスティバルにもっと楽しく参加できること間違えありません。 \nYEGスイッチへの皆様のご参加をお待ちしております。 \n★当日の服装、昨年ハワイアンフェスティバルに参加された方で、ふなばしハワイアンフェスティバルで配布されたアロハシャツをお持ちの方はご持参ください。お持ちでない方も夏らしい服装でお越しください。 \n参加対象者：船橋 YEG、オブザーバー(船橋 YEG に入会意欲のある方) \n会費：4\,000円 \n日時：令和5年7月18日(火) 20:30~22:30\n※開催時間は 20:30~22:30 ですがお店は2時間(21:00~23:00)貸し切りとなります。\n22:30 中締め。\n※中抜け退席は参加者の自由といたします。 \n講師：堀川 成良 様(ホリカワ シゲヨシ)\nふなばしハワイアンフェスティバル立ち上げメンバー　2代目実行委員長、本年度副実行委員長\n株式会社堀川設計舎 代表取締役 \n第1部 20:30~20:50 商工会議所6階大会議室\n第2部 21:00~22:30 B.SURGE (ビサージ)
URL:https://funabashi-yeg.com/event/%e7%ac%ac4%e5%9b%9eyeg%e3%82%b9%e3%82%a4%e3%83%83%e3%83%81
LOCATION:B.SURGE
CATEGORIES:船橋YEG事業
END:VEVENT
END:VCALENDAR